BEGIN:VCALENDAR
VERSION:2.0
PRODID:-//eventon.com NONSGML v1.0//EN
CALSCALE:GREGORIAN
METHOD:PUBLISH
BEGIN:VEVENT
UID:69eca8ab9af75
DTSTAMP:20260425T114235Z
DTSTART:20260618T190000Z
DTEND:20260618T210000Z
LOCATION:MashCraft Greenwood 1140 N State Road 135
SUMMARY:Singo at MashCraft Greenwood
DESCRIPTION:Attention Music Lovers! Singo is here at MashCraft Greenwood! J
 oin us every Thursday at 7pm for a night filled with music-inspired fun. En
 joy delicious food\,  refreshing beers\,  and unforgettable times! For thos
 e new to the game\,  Singo is an exciting music party game that takes the t
 raditional rules of bingo[..]\nhttps://mashcraft.com/events/singo-at-mashcr
 aft-greenwood/var/ri-9.l-L1
URL:https://mashcraft.com/events/singo-at-mashcraft-greenwood/var/ri-9.l-L1
END:VEVENT
END:VCALENDAR